BEGIN:VCALENDAR
VERSION:2.0
PRODID:-//eventon.com NONSGML v1.0//EN
CALSCALE:GREGORIAN
METHOD:PUBLISH
BEGIN:VEVENT
UID:69e80ca255aa1
DTSTAMP:20260421T234746Z
DTSTART:20260818T180000Z
DTEND:20260818T193000Z
LOCATION:Kingston City Hall\,  Top Floor\,  Meeting Room #1 420 Broadway\,  Kingston\,  NY\,  12401
SUMMARY:Age Well Focus Team Meeting
DESCRIPTION:Age Well improves older adults&#8217; access to healthy and nou
 rishing food\,  safe active transportation systems\,  welcoming public spac
 es\,  and community connections. Please email Emily at eflynn@kingston-ny.g
 ov or call 845-334-3909 for the agenda. Colleagues\,  friends\,  neighbors\
 ,  and family members are all welcome to join us! &nbsp;\nhttps://livewellk
 ingston.org/events/age-well-focus-team-meeting-28/var/ri-3.l-L1
URL:https://livewellkingston.org/events/age-well-focus-team-meeting-28/var/ri-3.l-L1
END:VEVENT
END:VCALENDAR