BEGIN:VCALENDAR
VERSION:2.0
PRODID:-//eventon.com NONSGML v1.0//EN
CALSCALE:GREGORIAN
METHOD:PUBLISH
BEGIN:VEVENT
UID:69e80d955f133
DTSTAMP:20260421T235149Z
DTSTART:20260708T200000Z
DTEND:20260708T213000Z
LOCATION:Kingston City Hall\,  Conference Room 1\,  top floor 420 Broadway\,  Kingston\,  NY 12401
SUMMARY:Complete Streets Advisory Council Meeting
DESCRIPTION:“Complete Streets” is a term used to describe ordinary city
  streets that are designed to encourage people of all ages and abilities\, 
  by any mode of transportation\,  to use them. The more than 86 miles of lo
 cal roads within the City are some of the most heavily used public spaces[.
 .]\nhttps://livewellkingston.org/events/complete-streets-advisory-council-m
 eeting-8/var/ri-6.l-L1
URL:https://livewellkingston.org/events/complete-streets-advisory-council-meeting-8/var/ri-6.l-L1
END:VEVENT
END:VCALENDAR