BEGIN:VCALENDAR
VERSION:2.0
PRODID:-//eventon.com NONSGML v1.0//EN
CALSCALE:GREGORIAN
METHOD:PUBLISH
BEGIN:VEVENT
UID:69e86bc8b109a
DTSTAMP:20260422T063344Z
DTSTART:20250519T220000Z
DTEND:20250519T230000Z
LOCATION:Kingston Land Trust Forest Sanctuary 71 Gross St.
SUMMARY:Grow Well Focus Team Meeting
DESCRIPTION:Please join us for a Grow Well meeting this Monday\,  May 19th
 \,  6pm\,  at the Kingston Land Trust’s Forest Sanctuary Garden (71 Gro
 ss St.). Here is a link to the location in Google Maps: https://maps.app.g
 oo.gl/24d7bqVx8Wm5EixP7. Meet us at the cedar table in the lower area. Fol
 ks should park at the far end of the JFK[..]\nhttps://livewellkingston.org/
 events/grow-well-focus-team-meeting-20/
URL:https://livewellkingston.org/events/grow-well-focus-team-meeting-20/
END:VEVENT
END:VCALENDAR