BEGIN:VCALENDAR
VERSION:2.0
PRODID:-//eventon.com NONSGML v1.0//EN
CALSCALE:GREGORIAN
METHOD:PUBLISH
BEGIN:VEVENT
UID:69e83c9458c48
DTSTAMP:20260422T031220Z
DTSTART:20250626T220000Z
DTEND:20250626T230000Z
LOCATION:Rondout Garden 102 Murray Street
SUMMARY:Grow Well Focus Team Meeting
DESCRIPTION:Grow Well Kingston is a collective of organizations and individ
 uals that support Kingston residents to grow plants and raise animals for f
 ood\,  medicine\,  natural habitat\,  and beauty\,  by supporting projects 
 that provide knowledge\,  growing spaces\,  and resources. We meet most fir
 st Tuesdays at 10am\,  and third Mondays at 6pm. We&#8217;ll[..]\nhttps://l
 ivewellkingston.org/events/grow-well-focus-team-meeting-22/
URL:https://livewellkingston.org/events/grow-well-focus-team-meeting-22/
END:VEVENT
END:VCALENDAR