BEGIN:VCALENDAR
VERSION:2.0
PRODID:-//eventon.com NONSGML v1.0//EN
CALSCALE:GREGORIAN
METHOD:PUBLISH
BEGIN:VEVENT
UID:69e80c1ebc193
DTSTAMP:20260421T234534Z
DTSTART:20260407T140000Z
DTEND:20260407T150000Z
LOCATION:George Washington Elementary 67 Wall St\,  Kingston\,  NY 12401
SUMMARY:Grow Well Focus Team Meeting
DESCRIPTION:Grow Well Kingston is a collective of organizations and individ
 uals that support Kingston residents to grow plants and raise animals for f
 ood\,  medicine\,  natural habitat\,  and beauty\,  by supporting projects 
 that provide knowledge\,  growing spaces\,  and resources. In 2026\,  we ar
 e meeting second Tuesdays\,  alternating between 6pm and 10am. We&#8217;ll[
 ..]\nhttps://livewellkingston.org/events/grow-well-focus-team-meeting-23/
URL:https://livewellkingston.org/events/grow-well-focus-team-meeting-23/
END:VEVENT
END:VCALENDAR