BEGIN:VCALENDAR
VERSION:2.0
PRODID:-//eventon.com NONSGML v1.0//EN
CALSCALE:GREGORIAN
METHOD:PUBLISH
BEGIN:VEVENT
UID:69e80c636cc38
DTSTAMP:20260421T234643Z
DTSTART:20260619T150000Z
DTEND:20260619T150000Z
LOCATION:Kingston City Hall\,  Top Floor\,  Meeting Room #1 420 Broadway\,  Kingston\,  NY\,  12401
SUMMARY:Play Well Focus Team Meeting
DESCRIPTION:Mission: Play Well improves access to parks\,  public spaces\, 
  and nature. Meetings are usually held on the third Friday of the month at 
 11am at City Hall\,  420 Broadway\,  conference room 1\,  top floor. Email 
 Emily at eflynn@kingston-ny.gov for the agenda and Zoom info. &nbsp;\nhttps
 ://livewellkingston.org/events/play-well-focus-team-meeting-17/var/ri-4.l-L
 1
URL:https://livewellkingston.org/events/play-well-focus-team-meeting-17/var/ri-4.l-L1
END:VEVENT
END:VCALENDAR