BEGIN:VCALENDAR
VERSION:2.0
PRODID:-//eventon.com NONSGML v1.0//EN
CALSCALE:GREGORIAN
METHOD:PUBLISH
BEGIN:VEVENT
UID:69e80ce0109d1
DTSTAMP:20260421T234848Z
DTSTART:20260715T201500Z
DTEND:20260715T214500Z
LOCATION:Conference Room 2\,  Top Floor\,  City Hall\,  420 Broadway\,  Kingston\,  NY. 420 Broadway
SUMMARY:Live Well Kingston Commission Meetings
DESCRIPTION:The Live Well Kingston Commission is the health Commission for 
 the City of Kingston\,  New York. It plays two roles. First\,  it is an adv
 isory board to the Mayor and Common Council. They create letters of support
  and guidance for City initiatives. Secondly\,  they oversee the Live Well 
 Kingston body[..]\nhttps://livewellkingston.org/events/live-well-kingston-c
 ommission-meetings/var/ri-4.l-L1
URL:https://livewellkingston.org/events/live-well-kingston-commission-meetings/var/ri-4.l-L1
END:VEVENT
END:VCALENDAR