BEGIN:VCALENDAR
VERSION:2.0
PRODID:-//eventon.com NONSGML v1.0//EN
CALSCALE:GREGORIAN
METHOD:PUBLISH
BEGIN:VEVENT
UID:69e83b5c8d50c
DTSTAMP:20260422T030708Z
DTSTART:20260326T140000Z
DTEND:20260326T150000Z
LOCATION:Kingston City Hall\,  Conference Room 1\,  top floor 420 Broadway\,  Kingston\,  NY 12401
SUMMARY:Greenline Leadership Team
DESCRIPTION:Do you love our Greenline system of rail trails and complete st
 reets? Join us for a leadership team meeting! Email Emily at eflynn@kingsto
 n-ny.gov for the agendas.\nhttps://livewellkingston.org/events/greenline-le
 adership-team/
URL:https://livewellkingston.org/events/greenline-leadership-team/
END:VEVENT
END:VCALENDAR