BEGIN:VCALENDAR
VERSION:2.0
PRODID:-//eventon.com NONSGML v1.0//EN
CALSCALE:GREGORIAN
METHOD:PUBLISH
BEGIN:VEVENT
UID:69e80c6916e63
DTSTAMP:20260421T234649Z
DTSTART:20260401T140000Z
DTEND:20260401T150000Z
LOCATION:https://cornell.zoom.us/j/96983548471?pwd=RCtKWHYreGRtODd5ckhMOGcvcUhwUT09
SUMMARY:Special Eat Well Meeting - Harvest of the Month & Farm Fresh Fridays
DESCRIPTION:I would love to invite you to a special Eat Well Kingston meeti
 ng with a focus on brainstorming the evolution of our Kingston Eats/Harvest
  of the Month project\,  which was a healthy food encouragement campaign. I
 n addition\,  Land to Learn\,  KCSD school staff\,  and the RVGA have a pro
 ject called[..]\nhttps://livewellkingston.org/events/eat-well-focus-team-me
 eting-13/var/event_access
URL:https://livewellkingston.org/events/eat-well-focus-team-meeting-13/var/event_access
END:VEVENT
END:VCALENDAR