BEGIN:VCALENDAR
VERSION:2.0
PRODID:-//eventon.com NONSGML v1.0//EN
CALSCALE:GREGORIAN
METHOD:PUBLISH
BEGIN:VEVENT
UID:69e80c2000840
DTSTAMP:20260421T234536Z
DTSTART:20260507T203000Z
DTEND:20260507T223000Z
LOCATION:
SUMMARY:Scenic Hudson's Let's Ride!
DESCRIPTION:Join Scenic Hudson and Bike Friendly Kingston to celebrate Ment
 al Health Awareness Month with a ride to Sojourner Truth State Park. The
  ride will start at the Rainbow Snake Dream Garden (85 Murray) at Rondout
  Gardens. Free bike tune-ups and a helmet giveaway will start at 3:00\,  wi
 th the ride beginning at 4:30.    Register here. Let’s[..]\nhttps://l
 ivewellkingston.org/events/scenic-hudsons-lets-ride/
URL:https://livewellkingston.org/events/scenic-hudsons-lets-ride/
END:VEVENT
END:VCALENDAR