BEGIN:VCALENDAR
VERSION:2.0
PRODID:-//eventon.com NONSGML v1.0//EN
CALSCALE:GREGORIAN
METHOD:PUBLISH
BEGIN:VEVENT
UID:69e7f78c0ddee
DTSTAMP:20260421T221748Z
DTSTART:20190125T170000Z
DTEND:20190125T180000Z
LOCATION:Kingston City Hall\,  Conference Room 1\,  top floor 420 Broadway\,  Kingston\,  NY 12401
SUMMARY:Play Well Focus Team Meeting
DESCRIPTION:The Play Well Focus Team develops\,  implements and/or supports
  policy\,  systems and environmental change to facilitate growth and mainte
 nance of public parks\,  recreational facilities and open space in order to
  increase safe and accessible places for physical activity. Facilitates the
  development of programs that encourage utilization of parks and open[..]\n
 https://livewellkingston.org/events/play-well-focus-team-meeting-2/
URL:https://livewellkingston.org/events/play-well-focus-team-meeting-2/
END:VEVENT
END:VCALENDAR